Workbook

Sheet 入库申报
A1: 附件2：
A2: 2025年巩固拓展脱贫攻坚成果和乡村振兴项目库拟入库项目申报表
A3: （盖章） 时间：2024年11月1日
A4: 序号 | B4: 项目类别 | E4: 乡镇 | F4: 村 | G4: 项目名称 | H4: 建设性质 | I4: 实施 地点（到组） | J4: 时间进度 | L4: 责任单位 | M4: 建设内容及规模 | N4: 资金规模和筹资方式 | Q4: 受益对象 | W4: 绩效目标 | X4: 联农带农机制 | Y4: 项目负责人（村支部书记） | Z4: 联系电话 | AA4: 备注
J5: 计划开工时间 | K5: 计划完工时间 | N5: 项目预算总投资（万元） | O5: 其中 | Q5: 受益村数（个） | R5: 受益户数（户） | S5: 受益人口数（人） | T5: 其中
B6: 项目类型 | C6: 二级项目类型 | D6: 项目子类型 | O6: 财政衔接资金（万元） | P6: 其他资金（万元） | T6: 受益脱贫村数（个） | U6: 受益脱贫户数及防止返贫监测对象户数（户） | V6: 受益脱贫人口数及防止返贫监测对象人口数（人）
A7: 1 | B7: 产业发展 | C7: 配套设施项目 | D7: 小型农田水利设施建设 | E7: 板市乡 | F7: 民康村 | G7: 2025年NYJ板市乡民康村吊楼冲组水塘水泥护坡_XCJS | H7: 新建 | I7: 吊楼冲组组 | J7: 2025年2月1日 | K7: 2025年12月31日 | L7: 民康村委会 | M7: 水泥护坡120米长 | N7: 13 | O7: 6 | P7: =N7-O7 -> 7 | Q7: 1 | R7: 103 | S7: 150 | T7: 0 | U7: 10 | V7: 18 | W7: 完成水塘清淤及塘坝加固硬化，保障农户田间灌溉 | X7: 受益脱贫人口及监测对象18人，保障农田灌溉，促进农户增收 | Y7: 何佳奇 | Z7: 17373403377
A8: 2 | B8: 乡村建设行动 | C8: 农村公共服务 | D8: 公共照明设施 | E8: 板市乡 | F8: 民康村 | G8: 2025年NYJ板市乡民康村主干道路路灯安装_XCJS | H8: 新建 | I8: 民康村 | J8: 2025年2月1日 | K8: 2025年12月31日 | L8: 民康村委会 | M8: 太阳能路灯160盏 | N8: 32 | O8: 16 | P8: =N8-O8 -> 16 | Q8: 1 | R8: 875 | S8: 2935 | T8: 0 | U8: 35 | V8: 60 | W8: 安装太阳能路灯，方便群众夜间出行 | X8: 群众与度100%，受益脱贫人口60人，方便群众夜间出行 | Y8: 何佳奇 | Z8: 17373403377
A9: 3 | B9: 产业发展 | C9: 配套设施项目 | D9: 小型农田水利设施建设 | E9: 板市乡 | F9: 民康村 | G9: 2025年NYJ板市乡民康村王泥塘组万塘防渗加固清淤_XCJS | H9: 新建 | I9: 王泥塘组 | J9: 2025年2月1日 | K9: 2025年12月31日 | L9: 民康村委会 | M9: 池塘防渗加固石砌3米高X0.5米厚95米长，清淤180立方 | N9: 16 | O9: 8 | P9: =N9-O9 -> 8 | Q9: 1 | R9: 30 | S9: 270 | T9: 0 | U9: 8 | V9: 20 | W9: 完成水塘清淤及塘坝加固硬化，保障农户田间灌溉 | X9: 受益脱贫人口及监测对象20人，保障农田灌溉，促进农户增收 | Y9: 何佳奇 | Z9: 17373403377
A10: 4 | B10: 产业发展 | C10: 配套设施项目 | D10: 小型农田水利设施建设 | E10: 板市乡 | F10: 民康村 | G10: 2025年NYJ板市乡民康村康太垅组水塘清淤硬化_XCJS | H10: 新建 | I10: 康太垅组 | J10: 2025年2月1日 | K10: 2025年12月31日 | L10: 民康村委会 | M10: 清淤300立方，硬化塘坝100米 | N10: 15 | O10: 7 | P10: =N10-O10 -> 8 | Q10: 1 | R10: 60 | S10: 300 | T10: 0 | U10: 7 | V10: 23 | W10: 清淤300立方，硬化塘坝100米，保障灌溉 | X10: 群众与度100%，受益脱贫人口23人，增加水塘蓄水量，保障灌溉，促进群众增收 | Y10: 何佳奇 | Z10: 17373403377
A11: 5 | B11: 乡村建设行动 | C11: 农村公共服务 | D11: 公共照明设施 | E11: 板市乡 | F11: 板桥村 | G11: 2025年NYJ板市乡板桥村大山桥、陶家祥组道路路灯安装_XCJS | H11: 新建 | I11: 大山桥、陶家祥组 | J11: 2025年2月1日 | K11: 2025年12月31日 | L11: 板桥村委会 | M11: 太阳能路灯40盏 | N11: 10 | O11: 5 | P11: =N11-O11 -> 5 | Q11: 1 | R11: 65 | S11: 320 | T11: 0 | U11: 5 | V11: 10 | W11: 安装太阳能路灯40盏，方便群众夜间出行 | X11: 群众与度100%，受益脱贫人口10人，方便群众夜间出行 | Y11: 罗雪峰 | Z11: 13974773016
A12: 6 | B12: 产业发展 | C12: 配套设施项目 | D12: 小型农田水利设施建设 | E12: 板市乡 | F12: 板桥村 | G12: 2025年NYJ板市乡板桥村李老屋组大瑶昌塘清淤硬化_XCJS | H12: 新建 | I12: 李老屋组 | J12: 2025年2月1日 | K12: 2025年12月31日 | L12: 板桥村委会 | M12: 清淤300立方，硬化塘坝100米 | N12: 10 | O12: 5 | P12: =N12-O12 -> 5 | Q12: 1 | R12: 103 | S12: 400 | T12: 0 | U12: 10 | V12: 21 | W12: 完成水塘清淤及塘坝硬化，便于农户田间灌溉 | X12: 群众与度100%，受益脱贫人口21人，保障农田灌溉，促进农户增收 | Y12: 罗雪峰 | Z12: 13974773016
A13: 7 | B13: 产业发展 | C13: 配套设施项目 | D13: 小型农田水利设施建设 | E13: 板市乡 | F13: 板桥村 | G13: 2025年NYJ板市乡板桥村元家台组水渠清淤护坡硬化_XCJS | H13: 新建 | I13: 元家台组 | J13: 2025年2月1日 | K13: 2025年12月31日 | L13: 板桥村委会 | M13: 水渠清淤100立方，护坡硬化50米 | N13: 6 | O13: 3 | P13: =N13-O13 -> 3 | Q13: 1 | R13: 70 | S13: 300 | T13: 0 | U13: 6 | V13: 12 | W13: 完成水渠清淤100立方，护坡硬化50米便于农户田间灌溉 | X13: 群众与度100%，受益脱贫人口12人，保障农田灌溉，促进农户增收 | Y13: 罗雪峰 | Z13: 13974773016
A14: 8 | B14: 产业发展 | C14: 配套设施项目 | D14: 小型农田水利设施建设 | E14: 板市乡 | F14: 板桥村 | G14: 2025年NYJ板市乡板桥村三字墙组水塘清淤硬化_XCJS | H14: 新建 | I14: 三字墙组 | J14: 2025年2月1日 | K14: 2025年12月31日 | L14: 板桥村委会 | M14: 清淤300立方，硬化塘坝100米 | N14: 15 | O14: 7 | P14: =N14-O14 -> 8 | Q14: 1 | R14: 60 | S14: 300 | T14: 0 | U14: 7 | V14: 23 | W14: 清淤300立方，硬化塘坝100米，保障灌溉 | X14: 群众与度100%，受益脱贫人口23人，增加水塘蓄水量，保障灌溉，促进群众增收 | Y14: 罗雪峰 | Z14: 13974773016
A15: 9 | B15: 产业发展 | C15: 配套设施项目 | D15: 小型农田水利设施建设 | E15: 板市乡 | F15: 化成村 | G15: 2025年NYJ板市乡化成村小马塘组新塘清淤护坡_XCJS | H15: 改建 | I15: 小马塘组 | J15: 2025年2月1日 | K15: 2025年12月31日 | L15: 化成村委会 | M15: 石砌护坡长60米，高3米，宽0.8米 | N15: 10 | O15: 5 | P15: =N15-O15 -> 5 | Q15: 1 | R15: 54 | S15: 230 | T15: 0 | U15: 12 | V15: 25 | W15: 完成水塘清淤及塘坝加固硬化，保障农户田间灌溉 | X15: 受益脱贫人口及监测对象25人，保障农田灌溉，促进农户增收 | Y15: 刘春华 | Z15: 13875614108
A16: 10 | B16: 产业发展 | C16: 配套设施项目 | D16: 小型农田水利设施建设 | E16: 板市乡 | F16: 化成村 | G16: 2025年NYJ板市乡化成村曲尺塘组山塘清淤护坡_XCJS | H16: 改建 | I16: 曲尺塘组 | J16: 2025年2月1日 | K16: 2025年12月31日 | L16: 化成村委会 | M16: 石砌护坡长80米，高3.5米，宽0.8米 | N16: 15 | O16: 7 | P16: =N16-O16 -> 8 | Q16: 1 | R16: 76 | S16: 280 | T16: 0 | U16: 15 | V16: 36 | W16: 完成水塘清淤及塘坝加固硬化，保障农户田间灌溉 | X16: 受益脱贫人口及监测对象36人，保障农田灌溉，促进农户增收 | Y16: 刘春华 | Z16: 13875614108
A17: 11 | B17: 产业发展 | C17: 配套设施项目 | D17: 小型农田水利设施建设 | E17: 板市乡 | F17: 同兴村 | G17: 2025年NYJ板市乡同兴村袁老屋组清淤护坡硬化_XCJS | H17: 新建 | I17: 袁老屋组 | J17: 2025年2月1日 | K17: 2025年12月31日 | L17: 同兴村委会 | M17: 清淤200立方，硬化塘坝85米 | N17: 10 | O17: 5 | P17: =N17-O17 -> 5 | Q17: 1 | R17: 70 | S17: 266 | T17: 0 | U17: 8 | V17: 13 | W17: 完成水塘清淤及塘坝硬化，便于农户田间灌溉 | X17: 群众与度100%，受益脱贫人口13人，保障农田灌溉，促进农户增收 | Y17: 刘鹏 | Z17: 13875603350
A18: 12 | B18: 产业发展 | C18: 配套设施项目 | D18: 小型农田水利设施建设 | E18: 板市乡 | F18: 同兴村 | G18: 2025年NYJ板市乡同兴村大力组鱼塘清淤硬化_XCJS | H18: 新建 | I18: 大力组 | J18: 2025年2月1日 | K18: 2025年12月31日 | L18: 同兴村委会 | M18: 清淤300立方，硬化塘坝100米 | N18: 10 | O18: 5 | P18: =N18-O18 -> 5 | Q18: 1 | R18: 65 | S18: 210 | T18: 0 | U18: 7 | V18: 15 | W18: 完成水塘清淤及塘坝硬化，便于农户田间灌溉 | X18: 群众与度100%，受益脱贫人口15人，保障农田灌溉，促进农户增收 | Y18: 刘鹏 | Z18: 13875603350
... A22: 16 | B22: 产业发展 | C22: 配套设施项目 | D22: 小型农田水利设施建设 | E22: 大安乡 | F22: 河龙村 | G22: 2025年NYJ大安乡河龙村万福组陈村塘清淤项目_XCJS | H22: 改建 | I22: 万福组 | J22: 2025年2月1日 | K22: 2025年12月31日 | L22: 河龙村委会 | M22: 护坡长80米，高4米，清淤210立方。 | N22: 15 | O22: 12 | P22: =N22-O22 -> 3 | Q22: 1 | R22: 64 | S22: 210 | T22: 1 | U22: 3 | V22: 10 | W22: 完成水塘清淤及塘坝护坡，便于农田灌溉 | X22: 群众参与度100%,受益脱贫人口10人，保障农田灌溉，促进农田 | Y22: 刘永喜 | Z22: 19896333555
A23: 17 | B23: 乡村建设行动 | C23: 农村基础设施（含产业配套基础设施） | D23: 农村道路建设（通村路、通户路、小型桥梁等） | E23: 大安乡 | F23: 三阳村 | G23: 2025年NYJ大安乡三阳村下湾组组道硬化项目_XCJS | H23: 新建 | I23: 下湾组 | J23: 2025年2月1日 | K23: 2025年12月31日 | L23: 三阳村委会 | M23: 硬化3.5米宽X0.2米厚道路800米长路面 | N23: 25 | O23: 20 | P23: =N23-O23 -> 5 | Q23: 1 | R23: 120 | S23: 452 | T23: 0 | U23: 4 | V23: 15 | W23: 硬化3.5米宽X0.2米厚道路800米，改善群众交通环境 | X23: 受益脱贫人口及监测对象15人，方便群众出行和物资运输，促进群众增收 | Y23: 蒋建华 | Z23: 15115444844
A24: 18 | B24: 乡村建设行动 | C24: 农村基础设施（含产业配套基础设施） | D24: 农村道路建设（通村路、通户路、小型桥梁等） | E24: 大安乡 | F24: 三阳村 | G24: 2025年NYJ大安乡三阳村苟美组组道硬化项目_XCJS | H24: 新建 | I24: 苟美组 | J24: 2025年2月1日 | K24: 2025年12月31日 | L24: 三阳村委会 | M24: 硬化4.5米宽X0.2米厚道路500米长路面 | N24: 20 | O24: 10 | P24: =N24-O24 -> 10 | Q24: 1 | R24: 90 | S24: 361 | T24: 0 | U24: 3 | V24: 12 | W24: 硬化4.5米宽X0.2米厚道路500米，改善群众交通环境 | X24: 受益脱贫人口及监测对象12人，方便群众出行和物资运输，促进群众增收 | Y24: 蒋建华 | Z24: 15115444844
A25: 19 | B25: 乡村建设行动 | C25: 农村基础设施（含产业配套基础设施） | D25: 农村道路建设（通村路、通户路、小型桥梁等） | E25: 大安乡 | F25: 邹岗村 | G25: 2025年NYJ大安乡邹岗村路源组至燕山组主干道扩宽硬化_XCJS | H25: 改建 | I25: 路源组至燕山组 | J25: 2025年2月1日 | K25: 2025年12月31日 | L25: 邹岗村委会 | M25: 扩宽硬化宽度为1.5米、厚度为0.2米、长度1100米，护坡长度100米 | N25: 31 | O25: 20 | P25: =N25-O25 -> 11 | Q25: 1 | R25: 480 | S25: 1876 | T25: 1 | U25: 26 | V25: 86 | W25: 扩宽硬化宽度为1.5米、厚度为0.2米、长度1100米，护坡长度100米，改善群众交通环境 | X25: 受益脱贫人口及监测对象86人，方便群众出行和物资运输，促进群众增收 | Y25: 左光勇 | Z25: 15073458315
A26: 20 | B26: 乡村建设行动 | C26: 农村基础设施（含产业配套基础设施） | D26: 农村道路建设（通村路、通户路、小型桥梁等） | E26: 大安乡 | F26: 育塘村 | G26: 2025年NYJ大安乡育塘村大安水厂-柏树组道路油化村_XCJS | H26: 新建 | I26: 大安水厂-柏树组 | J26: 2025年2月1日 | K26: 2025年12月31日 | L26: 育塘村委会 | M26: 油化宽5.5米，长1200米 | N26: 80 | O26: 40 | P26: =N26-O26 -> 40 | Q26: 1 | R26: 803 | S26: 2856 | T26: 0 | U26: 18 | V26: 55 | W26: 油化路面5.5米宽，长1200米，改善群众交通环境 | X26: 受益脱贫人口及监测对象55人，方便群众出行和物资运输，促进群众增收 | Y26: 邓成玉 | Z26: 13575276801
A27: 21 | B27: 乡村建设行动 | C27: 农村基础设施（含产业配套基础设施） | D27: 农村道路建设（通村路、通户路、小型桥梁等） | E27: 大安乡 | F27: 马源村 | G27: 2025年NYJ大安乡马源村高边组至红冲组组道扩宽硬化_XCJS | H27: 改建 | I27: 高边组至红冲组 | J27: 2025年2月1日 | K27: 2025年12月31日 | L27: 马源村委会 | M27: 扩宽硬化宽度为3.5米、厚度为0.2米、长度680米 | N27: 22 | O27: 18 | P27: =N27-O27 -> 4 | Q27: 1 | R27: 6 | S27: 36 | T27: 1 | U27: 3 | V27: 9 | W27: 硬化3.5米宽X0.2米厚道路长680米，改善群众交通环境 | X27: 群众参与度100%、方便群众出行和物资运输，促进群众增收 | Y27: 曾新军 | Z27: 13973421499
A28: 22 | B28: 乡村建设行动 | C28: 农村基础设施（含产业配套基础设施） | D28: 农村道路建设（通村路、通户路、小型桥梁等） | E28: 大安乡 | F28: 马源村 | G28: 2025年NYJ大安乡马源村林古组至上升组组道扩宽硬化_XCJS | H28: 改建 | I28: 林古组至上升组 | J28: 2025年2月1日 | K28: 2025年12月31日 | L28: 马源村委会 | M28: 扩宽硬化宽度为3.5米、厚度为0.2米、长度250米 | N28: 8 | O28: 6 | P28: =N28-O28 -> 2 | Q28: 1 | R28: 25 | S28: 150 | T28: 1 | U28: 1 | V28: 2 | W28: 硬化3.5米宽X0.2米厚道路长250米，改善群众交通环境 | X28: 群众参与度100%、受益脱贫人口2人，方便群众出行和物资运输，促进群众增收 | Y28: 曾新军 | Z28: 13973421499
A29: 23 | B29: 乡村建设行动 | C29: 农村基础设施（含产业配套基础设施） | D29: 农村道路建设（通村路、通户路、小型桥梁等） | E29: 大安乡 | F29: 马源村 | G29: 2025年NYJ大安乡马源村大兴组至井塘组组道扩宽硬化_XCJS | H29: 改建 | I29: 大兴组至井塘 | J29: 2025年2月1日 | K29: 2025年12月31日 | L29: 马源村委会 | M29: 扩宽硬化宽度为3.5米、厚度为0.2米、长度250米 | N29: 8 | O29: 6 | P29: =N29-O29 -> 2 | Q29: 1 | R29: 22 | S29: 130 | T29: 1 | U29: 1 | V29: 3 | W29: 硬化3.5米宽X0.2米厚道路长250米，改善群众交通环境 | X29: 群众参与度100%、受益脱贫人口3人，方便群众出行和物资运输，促进群众增收 | Y29: 曾新军 | Z29: 13973421499
A30: 24 | B30: 乡村建设行动 | C30: 农村基础设施（含产业配套基础设施） | D30: 农村道路建设（通村路、通户路、小型桥梁等） | E30: 大安乡 | F30: 延寿村 | G30: 2025年NYJ大安乡延寿村新建组至龙水组主干道扩宽油化_XCJS | H30: 新建 | I30: 延寿村 | J30: 2025年2月1日 | K30: 2025年12月31日 | L30: 延寿村委会 | M30: 2.4公里6米宽公路柏油硬化 | N30: 140 | O30: 40 | P30: =N30-O30 -> 100 | Q30: 1 | R30: 368 | S30: 1495 | T30: 0 | U30: 20 | V30: 43 | W30: 油化路面6米宽，长1400米，改善群众交通环境 | X30: 脱贫户参与度100%，受益脱贫人口43人 | Y30: 曾奋辉 | Z30: 13873416948
A31: 25 | B31: 产业发展 | C31: 配套设施项目 | D31: 小型农田水利设施建设 | E31: 关市镇 | F31: 石麓村 | G31: 2025年NYJ关市镇石麓村邓湾组地丫塘平塘清淤及防渗加固建设项目_XCJS | H31: 新建 | I31: 邓湾组 | J31: 2025年2月1日 | K31: 2025年12月31日 | L31: 石麓村委会 | M31: 平塘清淤2800方，防渗加固长30米，高5米，厚0.1米。 | N31: 16 | O31: 12 | P31: =N31-O31 -> 4 | Q31: 1 | R31: 22 | S31: 73 | T31: 1 | U31: 3 | V31: 9 | W31: 1、确保邓湾组60余亩农田灌溉2、巩固提升3户9人脱贫成果 | X31: 群众参与度100%，方便农田灌溉和促进群众增收 | Y31: 范军荣 | Z31: 13575100100
A32: 26 | B32: 乡村建设行动 | C32: 农村基础设施（含产业配套基础设施） | D32: 农村道路建设（通村路、通户路、小型桥梁等） | E32: 关市镇 | F32: 石麓村 | G32: 2025年NYJ关市镇石麓村村主干道朱家湾组至心田组沥青路面改造工程_XCJS | H32: 新建 | I32: 朱家湾组、心田组 | J32: 2025年2月1日 | K32: 2025年12月31日 | L32: 石麓村委会 | M32: 全程长1500米，宽4.5米，厚0.08米。 | N32: 22.5 | O32: 20 | P32: =N32-O32 -> 2.5 | Q32: 1 | R32: 108 | S32: 365 | T32: 1 | U32: 3 | V32: 6 | W32: 1、方便群众出行2、巩固提升3户6人脱贫成果 | X32: 群众参与度100%，促进群众出行方便 | Y32: 范军荣 | Z32: 13575100100
A33: 27 | B33: 产业发展 | C33: 配套设施项目 | D33: 小型农田水利设施建设 | E33: 关市镇 | F33: 石麓村 | G33: 2025年NYJ关市镇石麓村黄狮岭组至井皂引水渠建设项目_XCJS | H33: 新建 | I33: 黄狮岭组、井皂组 | J33: 2025年2月1日 | K33: 2025年12月31日 | L33: 石麓村委会 | M33: 引水渠长300米，高0.5米，宽0.6米。 | N33: 10 | O33: 8 | P33: =N33-O33 -> 2 | Q33: 1 | R33: 55 | S33: 188 | T33: 1 | U33: 10 | V33: 24 | W33: 1、确保65余亩农田灌溉，2、巩固提升10户24人脱贫成果 | X33: 群众参与度100%，方便耕地物资运输和机械化促进群众增收 | Y33: 范军荣 | Z33: 13575100100
A34: 28 | B34: 乡村建设行动 | C34: 农村基础设施（含产业配套基础设施） | D34: 农村道路建设（通村路、通户路、小型桥梁等） | E34: 关市镇 | F34: 石麓村 | G34: 2025年NYJ关市镇石麓村朱家湾组仓边桥至朱家湾组铁博园河堤护坡修复及机耕桥建设项目_XCJS | H34: 改建 | I34: 朱家湾组 | J34: 2025年2月1日 | K34: 2025年12月31日 | L34: 石麓村委会 | M34: 河堤全程长300米，高1.8米，宽0.65米。机耕桥长6米，宽4米，高1.8米。 | N34: 25 | O34: 23 | P34: =N34-O34 -> 2 | Q34: 1 | R34: 30 | S34: 105 | T34: 1 | U34: 2 | V34: 5 | W34: 1、确保35余亩农田灌溉，2、巩固提升2户5人脱贫成果 | X34: 群众参与度100%，方便机械化促进群众增收 | Y34: 范军荣 | Z34: 13575100100
A35: 29 | B35: 易地搬迁后扶 | C35: 易地搬迁后扶 | D35: “一站式”社区综合服务设施建设 | E35: 关市镇 | F35: 兰山村 | G35: 2025年FGJ关市镇易地搬迁兰山集中安置点便民综合服务礼堂建设_XCJS | H35: 新建 | I35: 大兴堂 | J35: 2025年2月1日 | K35: 2025年12月31日 | L35: 兰山村委会 | M35: 1.地面基础280m³2.房屋二层560m³3.房屋初装 | N35: 85 | O35: 70 | P35: =N35-O35 -> 15 | Q35: 1 | R35: 171 | S35: 520 | T35: 0 | U35: 171 | V35: 520 | W35: 1.巩固提升171户520人脱贫成果2.确保集中安置点171户520人公共活动 | X35: 群众参与度100%，受益脱贫人口520人，方便群众公共活动 | Y35: 贺交生 | Z35: 13973457543
A36: 30 | B36: 易地搬迁后扶 | C36: 易地搬迁后扶 | D36: “一站式”社区综合服务设施建设 | E36: 关市镇 | F36: 兰山村 | G36: 2025年FGJ关市镇易地搬迁兰山集中安置点文化休闲广场建设项目_XCJS | H36: 新建 | I36: 大兴堂 | J36: 2025年2月1日 | K36: 2025年12月31日 | L36: 兰山村委会 | M36: 1.土地平整3200m³2.广场硬化3200m³3.广场设施配置4.广场绿化 | N36: 39 | O36: 35 | P36: =N36-O36 -> 4 | Q36: 1 | R36: 171 | S36: 520 | T36: 0 | U36: 171 | V36: 520 | W36: 1.巩固提升171户520人脱贫成果2.确保集中安置点171户520人公共活动 | X36: 群众参与度100%，受益脱贫人口520人，方便群众公共活动 | Y36: 贺交生 | Z36: 13973457543
A37: 31 | B37: 易地搬迁后扶 | C37: 易地搬迁后扶 | D37: “一站式”社区综合服务设施建设 | E37: 关市镇 | F37: 兰山村 | G37: 2025年FGJ关市镇易地搬迁兰山集中安置点至关市中学沿河游步道建设项目_XCJS | H37: 新建 | I37: 大兴堂、范老湾 | J37: 2025年2月1日 | K37: 2025年12月31日 | L37: 兰山村委会 | M37: 1.游步道长210米、宽6米2.游步道硬化、铺砖3.游步道绿化 | N37: 55 | O37: 50 | P37: =N37-O37 -> 5 | Q37: 1 | R37: 171 | S37: 520 | T37: 0 | U37: 171 | V37: 520 | W37: 1.巩固提升171户520人脱贫成果2.确保集中安置点171户520人公共活动 | X37: 群众参与度100%，受益脱贫人口520人，方便群众公共活动 | Y37: 贺交生 | Z37: 13973457543
A38: 32 | B38: 产业发展 | C38: 配套设施项目 | D38: 小型农田水利设施建设 | E38: 关市镇 | F38: 兰山村 | G38: 2025年NYJ关市镇兰山村六冲组田间渠建设_XCJS | H38: 新建 | I38: 六冲组 | J38: 2025年2月1日 | K38: 2025年12月31日 | L38: 兰山村委会 | M38: 石切护坡长400米宽0.7米高0.8米 | N38: 10 | O38: 8 | P38: =N38-O38 -> 2 | Q38: 1 | R38: 60 | S38: 170 | T38: 0 | U38: 2 | V38: 5 | W38: 1.保障50亩农田灌溉，防止抛荒2.巩固提升2户5人的脱贫成果 | X38: 受益脱贫人口5人，保障农田灌溉，促进农户增收 | Y38: 贺交生 | Z38: 13973457543
A39: 33 | B39: 乡村建设行动 | C39: 农村基础设施（含产业配套基础设施） | D39: 农村道路建设（通村路、通户路、小型桥梁等） | E39: 关市镇 | F39: 汇水村 | G39: 2025年NYJ关市镇汇水村六顺堂至五福堂段主干道护坡_XCJS | H39: 新建 | I39: 六顺堂、五福堂组 | J39: 2025年2月1日 | K39: 2025年12月31日 | L39: 汇水村委会 | M39: 护坡65米，均宽2.2米，高3米 | N39: 15 | O39: 10 | P39: =N39-O39 -> 5 | Q39: 1 | R39: 476 | S39: 1560 | T39: 0 | U39: 16 | V39: 64 | W39: 1.护坡全长65米，均宽2.2米，高3米，改善群众交通环境2.巩固提升16户64人的脱贫成果 | X39: 受益脱贫人口及监测对象64人，方便群众出行和物资运输，促进群众增收 | Y39: 胡永贵 | Z39: 13875614355
A40: 34 | B40: 乡村建设行动 | C40: 农村基础设施（含产业配套基础设施） | D40: 农村道路建设（通村路、通户路、小型桥梁等） | E40: 关市镇 | F40: 保新村 | G40: 2025年NYJ关市镇保新村主干道破板维修硬化_XCJS | H40: 改建 | I40: 保新村 | J40: 2025年2月1日 | K40: 2025年12月31日 | L40: 保新村委会 | M40: 破损路面2km，3000平方米维修硬化 | N40: 21 | O40: 18 | P40: =N40-O40 -> 3 | Q40: 3 | R40: 103 | S40: 308 | T40: 0 | U40: 30 | V40: 110 | W40: 1.改善群众交通环境，2.巩固提升30户110人的脱贫成果 | X40: 受益脱贫人口及监测对象110人，方便群众出行和物资运输，促进群众增收 | Y40: 李均华 | Z40: 13673462116
A41: 35 | B41: 产业发展 | C41: 配套设施项目 | D41: 小型农田水利设施建设 | E41: 关市镇 | F41: 保新村 | G41: 2025年NYJ关市镇保新村祥阴组鱼塘维修_XCJS | H41: 改建 | I41: 保新村 | J41: 2025年2月1日 | K41: 2025年12月31日 | L41: 保新村委会 | M41: 石切护坡长100米宽0.7米高0.8米、清淤300方 | N41: 10 | O41: 8 | P41: =N41-O41 -> 2 | Q41: 1 | R41: 23 | S41: 136 | T41: 0 | U41: 2 | V41: 5 | W41: 1.保障50亩农田灌溉，防止抛荒2.巩固提升2户5人的脱贫成果 | X41: 受益脱贫人口136人，保障农田灌溉，促进农户增收 | Y41: 李均华 | Z41: 13673462116
A42: 36 | B42: 乡村建设行动 | C42: 农村基础设施（含产业配套基础设施） | D42: 农村供水保障设施建设 | E42: 关市镇 | F42: 唐市村 | G42: 2025年NYJ关市镇唐市村盛老屋组胜利水井维修建设项目_XCJS | H42: 改建 | I42: 盛老屋组 | J42: 2025年2月1日 | K42: 2025年12月31日 | L42: 唐市村委会 | M42: 井体修复，水质改善，20立方米 | N42: 15 | O42: 10 | P42: =N42-O42 -> 5 | Q42: 1 | R42: 34 | S42: 210 | T42: 0 | U42: 3 | V42: 10 | W42: 1.改善人居环境整治，2.提高居民生活水平 | X42: 群众参与度100%，受益脱贫人口10人，促进群众增收 | Y42: 贺细英 | Z42: 15211874918
A43: 37 | B43: 乡村建设行动 | C43: 农村基础设施（含产业配套基础设施） | D43: 农村道路建设（通村路、通户路、小型桥梁等） | E43: 关市镇 | F43: 高平村 | G43: 2025年NYJ关市镇高平村石塘冲组道路硬化_XCJS | H43: 新建 | I43: 石塘冲组 | J43: 2025年2月1日 | K43: 2025年12月31日 | L43: 高平村委会 | M43: 硬化4.5米宽X0.2米厚道路480米长路面 | N43: 21 | O43: 5 | P43: =N43-O43 -> 16 | Q43: 2 | R43: 46 | S43: 139 | T43: 0 | U43: 3 | V43: 11 | W43: 1.硬化4.5米宽X0.2米厚道路480米长，改善群众交通环境2.巩固提升脱贫户11人的脱贫成果 | X43: 受益脱贫人口及监测对象25人，方便群众出行和物资运输，促进群众增收 | Y43: 欧阳满 | Z43: 13575112727
...

Sheet 分类汇总表
A1: 附件1：
A2: 衡阳县2025年度巩固拓展脱贫攻坚成果和乡村振兴项目库拟入库项目申报分类汇总表
A3: (盖章)： 单位：万元、个、人
A4: 序号 | B4: 项目类型 | C4: 项目个数 | D4: 资金规模和筹资方式 | G4: 受益对象 | M4: 备注
D5: 项目预算总投资 | E5: 其中 | G5: 受益村（个数） | H5: 受益户数(户) | I5: 受益人口数（人） | J5: 其中
E6: 财政资金 | F6: 其他资金 | J6: 受益脱贫村数(个) | K6: 受益脱贫户数及防止返贫监测对象户数(户) | L6: 受益脱贫人口数及防止返贫监测对象人口数(人)
A7: 1 | B7: 总 计 | C7: =C8+C14+C20+C24+C25 -> 811 | D7: =D8+D14+D20+D24+D25 -> 58756.227 | E7: =E8+E14+E20+E24+E25 -> 39648.217 | F7: =F8+F14+F20+F24+F25 -> 19108.01 | G7: =G8+G14+G20+G24+G25 -> 4105 | H7: =H8+H14+H20+H24+H25 -> 183355 | I7: =I8+I14+I20+I24+I25 -> 668664 | J7: =J8+J14+J20+J24+J25 -> 1208 | ... L7: =L8+L14+L20+L24+L25 -> 66083
A8: 2 | B8: 一、产业发展 | C8: =SUM(C9:C13) -> 534 | D8: =SUM(D9:D13) -> 21430.357 | E8: =SUM(E9:E13) -> 15686.457 | F8: =SUM(F9:F13) -> 5743.9 | G8: =SUM(G9:G13) -> 1585 | H8: =SUM(H9:H13) -> 95247 | I8: =SUM(I9:I13) -> 359384 | J8: =SUM(J9:J13) -> 611 | ... L8: =SUM(L9:L13) -> 49266
A9: 3 | B9: 1.生产项目 | C9: 136 | D9: 3989.4567 | E9: 3930.4567 | F9: 59 | G9: 606 | H9: 43707 | I9: 165572 | J9: 279 | K9: 8814 | L9: 28578
A10: 4 | B10: 2.加工流通项目 | C10: 9 | D10: 1840 | E10: 900 | F10: 940 | G10: 99 | H10: 4415 | I10: 15270 | J10: 28 | K10: 507 | L10: 1550
A11: 5 | B11: 3.配套基础设施项目 | C11: 384 | D11: 14720.9 | E11: 9976 | F11: 4744.9 | G11: 732 | H11: 41265 | I11: 156302 | J11: 252 | K11: 4890 | L11: 15807
A12: 6 | B12: 4.产业服务支撑项目 | C12: 3 | D12: 160 | E12: 160 | F12: 0 | G12: 7 | H12: 4800 | I12: 18640 | J12: 3 | K12: 219 | L12: 812
A13: 7 | B13: 5.金融保险配套项目 | C13: 2 | D13: 720 | E13: 720 | F13: 0 | G13: 141 | H13: 1060 | I13: 3600 | J13: 49 | K13: 805 | L13: 2519
A14: 8 | B14: 二、就业项目 | C14: =SUM(C15:C19) -> 2 | D14: =SUM(D15:D19) -> 950 | E14: =SUM(E15:E19) -> 950 | F14: =SUM(F15:F19) -> 0 | G14: =SUM(G15:G19) -> 507 | H14: =SUM(H15:H19) -> 1334 | I14: =SUM(I15:I19) -> 5600 | J14: =SUM(J15:J19) -> 102 | ... L14: =SUM(L15:L19) -> 320
A15: 9 | B15: 1.务工补助 | C15: 1 | D15: 800 | E15: 800 | F15: 0 | G15: 450 | H15: 1000 | I15: 3300 | J15: 51 | K15: 0 | L15: 0
A16: 10 | B16: 2.就业培训 | C16: 1 | D16: 150 | E16: 150 | F16: 0 | G16: 57 | H16: 334 | I16: 2300 | J16: 51 | K16: 320 | L16: 320
A17: 11 | B17: 3.创业
A18: 12 | B18: 4.乡村工匠
A19: 13 | B19: 5.公益性岗位
A20: 14 | B20: 三、乡村建设行动 | C20: =SUM(C21:C23) -> 269 | D20: =SUM(D21:D23) -> 35076.87 | E20: =SUM(E21:E23) -> 21736.76 | F20: =SUM(F21:F23) -> 13340.11 | G20: =SUM(G21:G23) -> 985 | H20: =SUM(H21:H23) -> 80936 | I20: =SUM(I21:I23) -> 289120 | J20: =SUM(J21:J23) -> 342 | ... L20: =SUM(L21:L23) -> 14937
A21: 15 | B21: 1.农村基础设施 | C21: 255 | D21: 27499.37 | E21: 17547.76 | F21: 9951.61 | G21: 702 | H21: 75396 | I21: 268523 | J21: 240 | K21: 3669 | L21: 12962
A22: 16 | B22: 2.人居环境整治 | C22: 4 | D22: 7367 | E22: 4045 | F22: 3322 | G22: 273 | H22: 3130 | I22: 11493 | J22: 102 | K22: 542 | L22: 1714
A23: 17 | B23: 3.农村公共服务 | C23: 10 | D23: 210.5 | E23: 144 | F23: 66.5 | G23: 10 | H23: 2410 | I23: 9104 | J23: 0 | K23: 114 | L23: 261
A24: 18 | B24: 四、易地搬迁后扶 | C24: 3 | D24: 179 | E24: 155 | F24: 24 | G24: 3 | H24: 513 | I24: 1560 | J24: 0 | K24: 513 | L24: 1560
A25: 19 | B25: 五、巩固三保障成果 | C25: 3 | D25: 1120 | E25: 1120 | F25: 0 | G25: 1025 | H25: 5325 | I25: 13000 | J25: 153 | K25: 0 | L25: 0
A26: 20 | B26: 1.住房
A27: 21 | B27: 2.教育 | C27: 3 | D27: 1120 | E27: 1120 | F27: 0 | G27: 1025 | H27: 5325 | I27: 13000 | J27: 153 | K27: 0 | L27: 0
A28: 22 | B28: 3.健康
A29: 23 | B29: 4.综合保障
A30: 24 | B30: 六、乡村治理和精神文明
A31: 25 | B31: 1.乡村治理
A32: 26 | B32: 2.农村精神文明建设
A33: 27 | B33: 七、项目管理费
A34: 28 | B34: 八、其他
A35: 29 | B35: 1.少数民族特色村寨建设
A36: 30 | B36: 2.困难群众饮用低氟茶
A37: 31 | B37: ……

Sheet 分类汇总自动统计
A1: 二级类型 | B1: 项目个数 | C1: 资金规模和筹资方式 | F1: 受益对象
C2: 项目预算总投资 | D2: 其中 | F2: 受益村（个数） | G2: 受益户数(户) | H2: 受益人口数（人） | I2: 其中
D3: 财政资金 | E3: 其他资金 | I3: 受益脱贫村数(个) | J3: 受益脱贫户数及防止返贫监测对象户数(户) | K3: 受益脱贫人口数及防止返贫监测对象人口数(人)
A4: 产业服务支撑项目 | B4: 3 | C4: =SUMIF(入库申报!$C$7:$C$818,A4,入库申报!$N$7:$N$818) -> 160 | D4: =SUMIF(入库申报!$C$7:$C$818,A4,入库申报!$O$7:$O$818) -> 160 | E4: =SUMIF(入库申报!$C$7:$C$818,A4,入库申报!$P$7:$P$818) -> 0 | F4: =SUMIF(入库申报!$C$7:$C$818,A4,入库申报!$Q$7:$Q$818) -> 7 | G4: =SUMIF(入库申报!$C$7:$C$818,A4,入库申报!$R$7:$R$818) -> 4800 | H4: =SUMIF(入库申报!$C$7:$C$818,A4,入库申报!$S$7:$S$818) -> 18640 | I4: =SUMIF(入库申报!$C$7:$C$818,A4,入库申报!$T$7:$T$818) -> 3 | J4: =SUMIF(入库申报!$C$7:$C$818,A4,入库申报!$U$7:$U$818) -> 219 | K4: =SUMIF(入库申报!$C$7:$C$818,A4,入库申报!$V$7:$V$818) -> 812
A5: 加工流通项目 | B5: 9 | C5: =SUMIF(入库申报!$C$7:$C$818,A5,入库申报!$N$7:$N$818) -> 1840 | D5: =SUMIF(入库申报!$C$7:$C$818,A5,入库申报!$O$7:$O$818) -> 900 | E5: =SUMIF(入库申报!$C$7:$C$818,A5,入库申报!$P$7:$P$818) -> 940 | F5: =SUMIF(入库申报!$C$7:$C$818,A5,入库申报!$Q$7:$Q$818) -> 99 | G5: =SUMIF(入库申报!$C$7:$C$818,A5,入库申报!$R$7:$R$818) -> 4415 | H5: =SUMIF(入库申报!$C$7:$C$818,A5,入库申报!$S$7:$S$818) -> 15270 | I5: =SUMIF(入库申报!$C$7:$C$818,A5,入库申报!$T$7:$T$818) -> 28 | J5: =SUMIF(入库申报!$C$7:$C$818,A5,入库申报!$U$7:$U$818) -> 507 | K5: =SUMIF(入库申报!$C$7:$C$818,A5,入库申报!$V$7:$V$818) -> 1550
A6: 教育 | B6: 3 | C6: =SUMIF(入库申报!$C$7:$C$818,A6,入库申报!$N$7:$N$818) -> 1120 | D6: =SUMIF(入库申报!$C$7:$C$818,A6,入库申报!$O$7:$O$818) -> 1120 | E6: =SUMIF(入库申报!$C$7:$C$818,A6,入库申报!$P$7:$P$818) -> 0 | F6: =SUMIF(入库申报!$C$7:$C$818,A6,入库申报!$Q$7:$Q$818) -> 1025 | G6: =SUMIF(入库申报!$C$7:$C$818,A6,入库申报!$R$7:$R$818) -> 5325 | H6: =SUMIF(入库申报!$C$7:$C$818,A6,入库申报!$S$7:$S$818) -> 13000 | I6: =SUMIF(入库申报!$C$7:$C$818,A6,入库申报!$T$7:$T$818) -> 153 | J6: =SUMIF(入库申报!$C$7:$C$818,A6,入库申报!$U$7:$U$818) -> 0 | K6: =SUMIF(入库申报!$C$7:$C$818,A6,入库申报!$V$7:$V$818) -> 0
A7: 金融保险配套项目 | B7: 2 | C7: =SUMIF(入库申报!$C$7:$C$818,A7,入库申报!$N$7:$N$818) -> 720 | D7: =SUMIF(入库申报!$C$7:$C$818,A7,入库申报!$O$7:$O$818) -> 720 | E7: =SUMIF(入库申报!$C$7:$C$818,A7,入库申报!$P$7:$P$818) -> 0 | F7: =SUMIF(入库申报!$C$7:$C$818,A7,入库申报!$Q$7:$Q$818) -> 141 | G7: =SUMIF(入库申报!$C$7:$C$818,A7,入库申报!$R$7:$R$818) -> 1060 | H7: =SUMIF(入库申报!$C$7:$C$818,A7,入库申报!$S$7:$S$818) -> 3600 | I7: =SUMIF(入库申报!$C$7:$C$818,A7,入库申报!$T$7:$T$818) -> 49 | J7: =SUMIF(入库申报!$C$7:$C$818,A7,入库申报!$U$7:$U$818) -> 805 | K7: =SUMIF(入库申报!$C$7:$C$818,A7,入库申报!$V$7:$V$818) -> 2519
A8: 就业 | B8: 1 | C8: =SUMIF(入库申报!$C$7:$C$818,A8,入库申报!$N$7:$N$818) -> 150 | D8: =SUMIF(入库申报!$C$7:$C$818,A8,入库申报!$O$7:$O$818) -> 150 | E8: =SUMIF(入库申报!$C$7:$C$818,A8,入库申报!$P$7:$P$818) -> 0 | F8: =SUMIF(入库申报!$C$7:$C$818,A8,入库申报!$Q$7:$Q$818) -> 57 | G8: =SUMIF(入库申报!$C$7:$C$818,A8,入库申报!$R$7:$R$818) -> 334 | H8: =SUMIF(入库申报!$C$7:$C$818,A8,入库申报!$S$7:$S$818) -> 2300 | I8: =SUMIF(入库申报!$C$7:$C$818,A8,入库申报!$T$7:$T$818) -> 51 | J8: =SUMIF(入库申报!$C$7:$C$818,A8,入库申报!$U$7:$U$818) -> 320 | K8: =SUMIF(入库申报!$C$7:$C$818,A8,入库申报!$V$7:$V$818) -> 320
A9: 农村公共服务 | B9: 10 | C9: =SUMIF(入库申报!$C$7:$C$818,A9,入库申报!$N$7:$N$818) -> 210.5 | D9: =SUMIF(入库申报!$C$7:$C$818,A9,入库申报!$O$7:$O$818) -> 144 | E9: =SUMIF(入库申报!$C$7:$C$818,A9,入库申报!$P$7:$P$818) -> 66.5 | F9: =SUMIF(入库申报!$C$7:$C$818,A9,入库申报!$Q$7:$Q$818) -> 10 | G9: =SUMIF(入库申报!$C$7:$C$818,A9,入库申报!$R$7:$R$818) -> 2410 | H9: =SUMIF(入库申报!$C$7:$C$818,A9,入库申报!$S$7:$S$818) -> 9104 | I9: =SUMIF(入库申报!$C$7:$C$818,A9,入库申报!$T$7:$T$818) -> 0 | J9: =SUMIF(入库申报!$C$7:$C$818,A9,入库申报!$U$7:$U$818) -> 114 | K9: =SUMIF(入库申报!$C$7:$C$818,A9,入库申报!$V$7:$V$818) -> 261
A10: 农村基础设施（含产业配套基础设施） | B10: 255 | C10: =SUMIF(入库申报!$C$7:$C$818,A10,入库申报!$N$7:$N$818) -> 27499.37 | D10: =SUMIF(入库申报!$C$7:$C$818,A10,入库申报!$O$7:$O$818) -> 17547.76 | E10: =SUMIF(入库申报!$C$7:$C$818,A10,入库申报!$P$7:$P$818) -> 9951.61 | F10: =SUMIF(入库申报!$C$7:$C$818,A10,入库申报!$Q$7:$Q$818) -> 702 | G10: =SUMIF(入库申报!$C$7:$C$818,A10,入库申报!$R$7:$R$818) -> 75396 | H10: =SUMIF(入库申报!$C$7:$C$818,A10,入库申报!$S$7:$S$818) -> 268523 | I10: =SUMIF(入库申报!$C$7:$C$818,A10,入库申报!$T$7:$T$818) -> 240 | J10: =SUMIF(入库申报!$C$7:$C$818,A10,入库申报!$U$7:$U$818) -> 3669 | K10: =SUMIF(入库申报!$C$7:$C$818,A10,入库申报!$V$7:$V$818) -> 12962
A11: 配套设施项目 | B11: 384 | C11: =SUMIF(入库申报!$C$7:$C$818,A11,入库申报!$N$7:$N$818) -> 14720.9 | D11: =SUMIF(入库申报!$C$7:$C$818,A11,入库申报!$O$7:$O$818) -> 9976 | E11: =SUMIF(入库申报!$C$7:$C$818,A11,入库申报!$P$7:$P$818) -> 4744.9 | F11: =SUMIF(入库申报!$C$7:$C$818,A11,入库申报!$Q$7:$Q$818) -> 732 | G11: =SUMIF(入库申报!$C$7:$C$818,A11,入库申报!$R$7:$R$818) -> 41265 | H11: =SUMIF(入库申报!$C$7:$C$818,A11,入库申报!$S$7:$S$818) -> 156302 | I11: =SUMIF(入库申报!$C$7:$C$818,A11,入库申报!$T$7:$T$818) -> 252 | J11: =SUMIF(入库申报!$C$7:$C$818,A11,入库申报!$U$7:$U$818) -> 4890 | K11: =SUMIF(入库申报!$C$7:$C$818,A11,入库申报!$V$7:$V$818) -> 15807
A12: 人居环境整治 | B12: 4 | C12: =SUMIF(入库申报!$C$7:$C$818,A12,入库申报!$N$7:$N$818) -> 7367 | D12: =SUMIF(入库申报!$C$7:$C$818,A12,入库申报!$O$7:$O$818) -> 4045 | E12: =SUMIF(入库申报!$C$7:$C$818,A12,入库申报!$P$7:$P$818) -> 3322 | F12: =SUMIF(入库申报!$C$7:$C$818,A12,入库申报!$Q$7:$Q$818) -> 273 | G12: =SUMIF(入库申报!$C$7:$C$818,A12,入库申报!$R$7:$R$818) -> 3130 | H12: =SUMIF(入库申报!$C$7:$C$818,A12,入库申报!$S$7:$S$818) -> 11493 | I12: =SUMIF(入库申报!$C$7:$C$818,A12,入库申报!$T$7:$T$818) -> 102 | J12: =SUMIF(入库申报!$C$7:$C$818,A12,入库申报!$U$7:$U$818) -> 542 | K12: =SUMIF(入库申报!$C$7:$C$818,A12,入库申报!$V$7:$V$818) -> 1714
A13: 生产项目 | B13: 136 | C13: =SUMIF(入库申报!$C$7:$C$818,A13,入库申报!$N$7:$N$818) -> 3989.4567 | D13: =SUMIF(入库申报!$C$7:$C$818,A13,入库申报!$O$7:$O$818) -> 3930.4567 | E13: =SUMIF(入库申报!$C$7:$C$818,A13,入库申报!$P$7:$P$818) -> 59 | F13: =SUMIF(入库申报!$C$7:$C$818,A13,入库申报!$Q$7:$Q$818) -> 606 | G13: =SUMIF(入库申报!$C$7:$C$818,A13,入库申报!$R$7:$R$818) -> 43707 | H13: =SUMIF(入库申报!$C$7:$C$818,A13,入库申报!$S$7:$S$818) -> 165572 | I13: =SUMIF(入库申报!$C$7:$C$818,A13,入库申报!$T$7:$T$818) -> 279 | J13: =SUMIF(入库申报!$C$7:$C$818,A13,入库申报!$U$7:$U$818) -> 8814 | K13: =SUMIF(入库申报!$C$7:$C$818,A13,入库申报!$V$7:$V$818) -> 28578
A14: 务工补助 | B14: 1 | C14: =SUMIF(入库申报!$C$7:$C$818,A14,入库申报!$N$7:$N$818) -> 800 | D14: =SUMIF(入库申报!$C$7:$C$818,A14,入库申报!$O$7:$O$818) -> 800 | E14: =SUMIF(入库申报!$C$7:$C$818,A14,入库申报!$P$7:$P$818) -> 0 | F14: =SUMIF(入库申报!$C$7:$C$818,A14,入库申报!$Q$7:$Q$818) -> 450 | G14: =SUMIF(入库申报!$C$7:$C$818,A14,入库申报!$R$7:$R$818) -> 1000 | H14: =SUMIF(入库申报!$C$7:$C$818,A14,入库申报!$S$7:$S$818) -> 3300 | I14: =SUMIF(入库申报!$C$7:$C$818,A14,入库申报!$T$7:$T$818) -> 51 | J14: =SUMIF(入库申报!$C$7:$C$818,A14,入库申报!$U$7:$U$818) -> 0 | K14: =SUMIF(入库申报!$C$7:$C$818,A14,入库申报!$V$7:$V$818) -> 0
A15: 易地搬迁后扶 | B15: 3 | C15: =SUMIF(入库申报!$C$7:$C$818,A15,入库申报!$N$7:$N$818) -> 179 | D15: =SUMIF(入库申报!$C$7:$C$818,A15,入库申报!$O$7:$O$818) -> 155 | E15: =SUMIF(入库申报!$C$7:$C$818,A15,入库申报!$P$7:$P$818) -> 24 | F15: =SUMIF(入库申报!$C$7:$C$818,A15,入库申报!$Q$7:$Q$818) -> 3 | G15: =SUMIF(入库申报!$C$7:$C$818,A15,入库申报!$R$7:$R$818) -> 513 | H15: =SUMIF(入库申报!$C$7:$C$818,A15,入库申报!$S$7:$S$818) -> 1560 | I15: =SUMIF(入库申报!$C$7:$C$818,A15,入库申报!$T$7:$T$818) -> 0 | J15: =SUMIF(入库申报!$C$7:$C$818,A15,入库申报!$U$7:$U$818) -> 513 | K15: =SUMIF(入库申报!$C$7:$C$818,A15,入库申报!$V$7:$V$818) -> 1560
